BEGIN:VCALENDAR
VERSION:2.0
PRODID:-//Villers-Pol - ECPv6.3.3.1//NONSGML v1.0//EN
CALSCALE:GREGORIAN
METHOD:PUBLISH
X-ORIGINAL-URL:https://mairie.villerspol.fr
X-WR-CALDESC:évènements pour Villers-Pol
REFRESH-INTERVAL;VALUE=DURATION:PT1H
X-Robots-Tag:noindex
X-PUBLISHED-TTL:PT1H
BEGIN:VTIMEZONE
TZID:Europe/Paris
BEGIN:DAYLIGHT
TZOFFSETFROM:+0100
TZOFFSETTO:+0200
TZNAME:CEST
DTSTART:20240331T010000
END:DAYLIGHT
BEGIN:STANDARD
TZOFFSETFROM:+0200
TZOFFSETTO:+0100
TZNAME:CET
DTSTART:20241027T010000
END:STANDARD
BEGIN:DAYLIGHT
TZOFFSETFROM:+0100
TZOFFSETTO:+0200
TZNAME:CEST
DTSTART:20250330T010000
END:DAYLIGHT
BEGIN:STANDARD
TZOFFSETFROM:+0200
TZOFFSETTO:+0100
TZNAME:CET
DTSTART:20251026T010000
END:STANDARD
END:VTIMEZONE
BEGIN:VEVENT
DTSTART;TZID=Europe/Paris:20241231T200000
DTEND;TZID=Europe/Paris:20250101T070000
DTSTAMP:20260424T202414
CREATED:20241202T145600Z
LAST-MODIFIED:20241202T145609Z
UID:2915-1735675200-1735714800@mairie.villerspol.fr
SUMMARY:Réveillon de la Nouvelle Année 2025
DESCRIPTION:Pour vous inscrire cliquez ici !
URL:https://mairie.villerspol.fr/event/reveillon-de-la-nouvelle-annee-2025/
LOCATION:Salle des fetes
ORGANIZER;CN="Comit%C3%A9 des f%C3%AAtes 'La Vitalit%C3%A9'":MAILTO:arcencielbdc@hotmail.fr
END:VEVENT
END:VCALENDAR