BEGIN:VCALENDAR
VERSION:2.0
PRODID:-//Villers-Pol - ECPv6.3.3.1//NONSGML v1.0//EN
CALSCALE:GREGORIAN
METHOD:PUBLISH
X-ORIGINAL-URL:https://mairie.villerspol.fr
X-WR-CALDESC:évènements pour Villers-Pol
REFRESH-INTERVAL;VALUE=DURATION:PT1H
X-Robots-Tag:noindex
X-PUBLISHED-TTL:PT1H
BEGIN:VTIMEZONE
TZID:Europe/Paris
BEGIN:DAYLIGHT
TZOFFSETFROM:+0100
TZOFFSETTO:+0200
TZNAME:CEST
DTSTART:20250330T010000
END:DAYLIGHT
BEGIN:STANDARD
TZOFFSETFROM:+0200
TZOFFSETTO:+0100
TZNAME:CET
DTSTART:20251026T010000
END:STANDARD
END:VTIMEZONE
BEGIN:VEVENT
DTSTART;TZID=Europe/Paris:20250511T100000
DTEND;TZID=Europe/Paris:20250511T180000
DTSTAMP:20260424T202451
CREATED:20250423T085506Z
LAST-MODIFIED:20250423T085506Z
UID:3029-1746957600-1746986400@mairie.villerspol.fr
SUMMARY:Café éphémère
DESCRIPTION:
URL:https://mairie.villerspol.fr/event/cafe-ephemere/
LOCATION:Étang de Villers-Pol
ORGANIZER;CN="Comit%C3%A9 des f%C3%AAtes 'La Vitalit%C3%A9'":MAILTO:arcencielbdc@hotmail.fr
END:VEVENT
END:VCALENDAR